BEGIN:VCALENDAR
VERSION:2.0
PRODID:-//hacksw/handcal//NONSGML v1.0//EN
BEGIN:VEVENT
SUMMARY:U15F2 VS LUSSAT
UID:f4571dd9-ae32-48a8-9712-e334ebef167f
DTSTART:20260328T133000Z
DTEND:20260328T153000Z
LOCATION:Localisation   
CATEGORIES:Sportif
STATUS:
URL;VALUE=URI:https://www.gerzatbasket.com/evenements/2026/03/28/u15f2-vs-lussat-2430079
END:VEVENT
END:VCALENDAR
