BEGIN:VCALENDAR
VERSION:2.0
PRODID:-//hacksw/handcal//NONSGML v1.0//EN
BEGIN:VEVENT
SUMMARY:U18M VS BELLERIVE
UID:8904dffd-1293-4f2b-85b7-7070dea60a04
DTSTART:20260328T173000Z
DTEND:20260328T193000Z
LOCATION:Localisation   
CATEGORIES:Sportif
STATUS:
URL;VALUE=URI:https://www.gerzatbasket.com/evenements/2026/03/28/u18m-vs-bellerive-2432002
END:VEVENT
END:VCALENDAR
