BEGIN:VCALENDAR
VERSION:2.0
PRODID:-//hacksw/handcal//NONSGML v1.0//EN
BEGIN:VEVENT
SUMMARY:U9 VS PERIGNAT 1
UID:176662da-0b7b-44eb-938b-136a8db349e7
DTSTART:20260328T123000Z
DTEND:20260328T143000Z
LOCATION:Localisation   
CATEGORIES:Sportif
STATUS:
URL;VALUE=URI:https://www.gerzatbasket.com/evenements/2026/03/28/u9-vs-perignat-1-2430077
END:VEVENT
END:VCALENDAR
